BEGIN:VCALENDAR
VERSION:2.0
PRODID:spatie/icalendar-generator
DESCRIPTION:Events from Estates and More
X-WR-CALDESC:Events from Estates and More
REFRESH-INTERVAL;VALUE=DURATION:PT1440M
X-PUBLISHED-TTL:PT1440M
BEGIN:VTIMEZONE
TZID:America/Chicago
BEGIN:DAYLIGHT
DTSTART:20240310T020000Z
TZOFFSETFROM:-0600
TZOFFSETTO:-0500
END:DAYLIGHT
BEGIN:STANDARD
DTSTART:20241103T020000Z
TZOFFSETFROM:-0500
TZOFFSETTO:-0600
END:STANDARD
END:VTIMEZONE
BEGIN:VTIMEZONE
TZID:UTC
BEGIN:STANDARD
DTSTART:20250728T090417Z
TZOFFSETFROM:+0000
TZOFFSETTO:+0000
END:STANDARD
END:VTIMEZONE
BEGIN:VEVENT
UID:16-10
DTSTAMP:20260424T090417Z
SUMMARY:ACARF Benefit Auction Pickup Day 2
LOCATION:
ORGANIZER;CN=jscovill1:MAILTO:jscovill1@cox.net
DTSTART;TZID=America/Chicago:20240810T150000
DTEND;TZID=America/Chicago:20240810T190000
X-ALT-DESC;FMTTYPE=TEXT/HTML:Pickup is available from 3:00pm to 7:00pm CST
CATEGORIES:General
URL;VALUE=URI:https://estatesandmore.com/mc-events/acarf-benefit-auction-pi
 ckup-day-2/
METHOD:PUBLISH
END:VEVENT
END:VCALENDAR